BEGIN:VCALENDAR
VERSION:2.0
BEGIN:VEVENT
URL:https://stagandhunter.oztix.com.au/outlet/event/081d384b-78c9-4830-843c-96db16f3bc77
DTSTART:20210227T080000Z
DTEND:20210227T080000Z
SUMMARY:RED CITY
DESCRIPTION:Event details: https://stagandhunter.oztix.com.au/outlet/event/081d384b-78c9-4830-843c-96db16f3bc77
LOCATION:The Stag & Hunter Hotel (Mayfield, NSW)
END:VEVENT
END:VCALENDAR