BEGIN:VCALENDAR
VERSION:2.0
BEGIN:VEVENT
URL:https://stagandhunter.oztix.com.au/outlet/event/1018306e-a18b-4794-bd4a-b2825392caff
DTSTART:20210306T080000Z
DTEND:20210306T080000Z
SUMMARY:Lachlan X Morris
DESCRIPTION:Event details: https://stagandhunter.oztix.com.au/outlet/event/1018306e-a18b-4794-bd4a-b2825392caff
LOCATION:The Stag & Hunter Hotel (Mayfield, NSW)
END:VEVENT
END:VCALENDAR