BEGIN:VCALENDAR
VERSION:2.0
BEGIN:VEVENT
URL:https://stagandhunter.oztix.com.au/outlet/event/261921c3-e9cc-491c-81e5-2ec41f50fa9b
DTSTART:20210313T080000Z
DTEND:20210313T080000Z
SUMMARY:Dani El-Rassi
DESCRIPTION:Event details: https://stagandhunter.oztix.com.au/outlet/event/261921c3-e9cc-491c-81e5-2ec41f50fa9b
LOCATION:The Stag & Hunter Hotel (Mayfield, NSW)
END:VEVENT
END:VCALENDAR