BEGIN:VCALENDAR
VERSION:2.0
BEGIN:VEVENT
URL:https://stagandhunter.oztix.com.au/outlet/event/27ba25c0-6408-41fe-a0ea-9eb9ada01f8f
DTSTART:20210319T080000Z
DTEND:20210319T080000Z
SUMMARY:Marvellous Hearts
DESCRIPTION:Event details: https://stagandhunter.oztix.com.au/outlet/event/27ba25c0-6408-41fe-a0ea-9eb9ada01f8f
LOCATION:The Stag & Hunter Hotel (Mayfield, NSW)
END:VEVENT
END:VCALENDAR