BEGIN:VCALENDAR
VERSION:2.0
BEGIN:VEVENT
URL:https://stagandhunter.oztix.com.au/outlet/event/28827444-9285-4003-8367-8497f9058cac
DTSTART:20210305T080000Z
DTEND:20210305T080000Z
SUMMARY:THE LAZY EYES
DESCRIPTION:Event details: https://stagandhunter.oztix.com.au/outlet/event/28827444-9285-4003-8367-8497f9058cac
LOCATION:The Stag & Hunter Hotel (Mayfield, NSW)
END:VEVENT
END:VCALENDAR