BEGIN:VCALENDAR
VERSION:2.0
BEGIN:VEVENT
URL:https://stagandhunter.oztix.com.au/outlet/event/313fb260-bcbc-495d-a56b-10f3cacef3c0
DTSTART:20210327T080000Z
DTEND:20210327T080000Z
SUMMARY:The Hussy Hicks
DESCRIPTION:Event details: https://stagandhunter.oztix.com.au/outlet/event/313fb260-bcbc-495d-a56b-10f3cacef3c0
LOCATION:The Stag & Hunter Hotel (Mayfield, NSW)
END:VEVENT
END:VCALENDAR