BEGIN:VCALENDAR
VERSION:2.0
BEGIN:VEVENT
URL:https://stagandhunter.oztix.com.au/outlet/event/36bc1ce9-7e54-4a7b-8335-b546add33c3a
DTSTART:20210326T080000Z
DTEND:20210326T080000Z
SUMMARY:William Crighton
DESCRIPTION:Event details: https://stagandhunter.oztix.com.au/outlet/event/36bc1ce9-7e54-4a7b-8335-b546add33c3a
LOCATION:The Stag & Hunter Hotel (Mayfield, NSW)
END:VEVENT
END:VCALENDAR