BEGIN:VCALENDAR
VERSION:2.0
BEGIN:VEVENT
URL:https://stagandhunter.oztix.com.au/outlet/event/6be3531f-0bd4-4f0f-802f-3301012584ea
DTSTART:20210320T080000Z
DTEND:20210320T080000Z
SUMMARY:Human Noise " Bad Language" single release
DESCRIPTION:Event details: https://stagandhunter.oztix.com.au/outlet/event/6be3531f-0bd4-4f0f-802f-3301012584ea
LOCATION:The Stag & Hunter Hotel (Mayfield, NSW)
END:VEVENT
END:VCALENDAR