BEGIN:VCALENDAR
VERSION:2.0
BEGIN:VEVENT
URL:https://stagandhunter.oztix.com.au/outlet/event/83ebc1a3-0161-4d54-9d46-b2329be03685
DTSTART:20210226T080000Z
DTEND:20210226T080000Z
SUMMARY:Johnston City
DESCRIPTION:Event details: https://stagandhunter.oztix.com.au/outlet/event/83ebc1a3-0161-4d54-9d46-b2329be03685
LOCATION:The Stag & Hunter Hotel (Mayfield, NSW)
END:VEVENT
END:VCALENDAR