BEGIN:VCALENDAR
VERSION:2.0
BEGIN:VEVENT
URL:https://stagandhunter.oztix.com.au/outlet/event/84360fdf-39bc-4cdf-8a4e-f1cc0c7c3eae
DTSTART:20210703T090000Z
DTEND:20210703T090000Z
SUMMARY:Owen Campbell
DESCRIPTION:Event details: https://stagandhunter.oztix.com.au/outlet/event/84360fdf-39bc-4cdf-8a4e-f1cc0c7c3eae
LOCATION:The Stag & Hunter Hotel (Mayfield, NSW)
END:VEVENT
END:VCALENDAR