BEGIN:VCALENDAR
VERSION:2.0
BEGIN:VEVENT
URL:https://stagandhunter.oztix.com.au/outlet/event/b3875b71-7471-456f-aba2-47f9b9f3d46e
DTSTART:20210604T090000Z
DTEND:20210604T090000Z
SUMMARY:Tracy McNeil & The Goodlife " You Be The Lightning " Album Tour
DESCRIPTION:Event details: https://stagandhunter.oztix.com.au/outlet/event/b3875b71-7471-456f-aba2-47f9b9f3d46e
LOCATION:The Stag & Hunter Hotel (Mayfield, NSW)
END:VEVENT
END:VCALENDAR