BEGIN:VCALENDAR
VERSION:2.0
BEGIN:VEVENT
URL:https://stagandhunter.oztix.com.au/outlet/event/b3d65fd1-1e9a-496a-852b-0a9b76b5977a
DTSTART:20210403T080000Z
DTEND:20210403T080000Z
SUMMARY:The Royal Coates
DESCRIPTION:Event details: https://stagandhunter.oztix.com.au/outlet/event/b3d65fd1-1e9a-496a-852b-0a9b76b5977a
LOCATION:The Stag & Hunter Hotel (Mayfield, NSW)
END:VEVENT
END:VCALENDAR