BEGIN:VCALENDAR
VERSION:2.0
BEGIN:VEVENT
URL:https://stagandhunter.oztix.com.au/outlet/event/c3088d9b-f7a9-46f6-b710-344e057dd1c3
DTSTART:20210312T080000Z
DTEND:20210312T080000Z
SUMMARY:Crosstown Killers
DESCRIPTION:Event details: https://stagandhunter.oztix.com.au/outlet/event/c3088d9b-f7a9-46f6-b710-344e057dd1c3
LOCATION:The Stag & Hunter Hotel (Mayfield, NSW)
END:VEVENT
END:VCALENDAR