BEGIN:VCALENDAR
VERSION:2.0
BEGIN:VEVENT
URL:https://stagandhunter.oztix.com.au/outlet/event/cfe0feb2-e121-4e80-9115-3d79c21b0833
DTSTART:20210507T090000Z
DTEND:20210507T090000Z
SUMMARY:Caitlin Harnett & The Pony Boys  " Late night Essentials "Tour
DESCRIPTION:Event details: https://stagandhunter.oztix.com.au/outlet/event/cfe0feb2-e121-4e80-9115-3d79c21b0833
LOCATION:The Stag & Hunter Hotel (Mayfield, NSW)
END:VEVENT
END:VCALENDAR